BEGIN:VCALENDAR
VERSION:2.0
PRODID:-//Wabash Center - ECPv5.7.0//NONSGML v1.0//EN
CALSCALE:GREGORIAN
METHOD:PUBLISH
X-WR-CALNAME:Wabash Center
X-ORIGINAL-URL:https://wabash-old.triplenerdscore.xyz
X-WR-CALDESC:Events for Wabash Center
BEGIN:VTIMEZONE
TZID:UTC
BEGIN:STANDARD
TZOFFSETFROM:+0000
TZOFFSETTO:+0000
TZNAME:UTC
DTSTART:20180101T000000
END:STANDARD
END:VTIMEZONE
BEGIN:VEVENT
DTSTART;TZID=UTC:20180117T080000
DTEND;TZID=UTC:20180117T170000
DTSTAMP:20260422T140515
CREATED:20180117T203522Z
LAST-MODIFIED:20180117T203522Z
UID:212779-1516176000-1516208400@wabash-old.triplenerdscore.xyz
SUMMARY:Winter Meeting TEST 2 – 2017-18 Teaching Workshop for Early Career Theological School Faculty
DESCRIPTION:Ground Transportation\nAbout a week prior to your travel you will receive an email from Beth Reffett (reffettb@wabash.edu) with airport shuttle information. This email includes the cell phone number of your driver\, where to meet\, and fellow participants with arrival times. Please print off these instructions and carry them with you. \nContact Information on Day of Travel\nWabash Center: 800-655-7117
URL:https://wabash-old.triplenerdscore.xyz/event/winter-meeting-test-2-2017-18-teaching-workshop-early-career-theological-school-faculty/
END:VEVENT
END:VCALENDAR