BEGIN:VCALENDAR
VERSION:2.0
PRODID:-//Wabash Center - ECPv5.7.0//NONSGML v1.0//EN
CALSCALE:GREGORIAN
METHOD:PUBLISH
X-WR-CALNAME:Wabash Center
X-ORIGINAL-URL:https://wabash-old.triplenerdscore.xyz
X-WR-CALDESC:Events for Wabash Center
BEGIN:VTIMEZONE
TZID:UTC
BEGIN:STANDARD
TZOFFSETFROM:+0000
TZOFFSETTO:+0000
TZNAME:UTC
DTSTART:20180101T000000
END:STANDARD
END:VTIMEZONE
BEGIN:VEVENT
DTSTART;VALUE=DATE:20180202
DTEND;VALUE=DATE:20180204
DTSTAMP:20260422T121525
CREATED:20170727T144641Z
LAST-MODIFIED:20180125T211327Z
UID:211409-1517529600-1517702399@wabash-old.triplenerdscore.xyz
SUMMARY:Teaching Seminar for Doctoral Students (NYC)
DESCRIPTION:This information is for participants already accepted into the workshop.\n\n\n\n\n View Info About This SeminarGoals\, leadership\, etc...
URL:https://wabash-old.triplenerdscore.xyz/event/wabash-center-teaching-seminars-doctoral-students/
LOCATION:Affinia Shelburne Hotel\, 303 Lexington Ave.\, New York\, NY\, 10016
END:VEVENT
END:VCALENDAR