BEGIN:VCALENDAR
VERSION:2.0
PRODID:-//Wabash Center - ECPv5.7.0//NONSGML v1.0//EN
CALSCALE:GREGORIAN
METHOD:PUBLISH
X-WR-CALNAME:Wabash Center
X-ORIGINAL-URL:https://wabash-old.triplenerdscore.xyz
X-WR-CALDESC:Events for Wabash Center
BEGIN:VTIMEZONE
TZID:UTC
BEGIN:STANDARD
TZOFFSETFROM:+0000
TZOFFSETTO:+0000
TZNAME:UTC
DTSTART:20190101T000000
END:STANDARD
END:VTIMEZONE
BEGIN:VEVENT
DTSTART;VALUE=DATE:20190222
DTEND;VALUE=DATE:20190224
DTSTAMP:20260422T072649
CREATED:20180807T172245Z
LAST-MODIFIED:20180807T194548Z
UID:218452-1550793600-1550966399@wabash-old.triplenerdscore.xyz
SUMMARY:Teaching Seminar for Doctoral Students (Philadelphia)
DESCRIPTION:This information is for participants already accepted into the workshop.\n\n\n View Info About This SeminarGoals\, leadership\, etc...
URL:https://wabash-old.triplenerdscore.xyz/event/teaching-seminar-for-doctoral-students-philadelphia/
LOCATION:The Bellevue Hotel\, 200 South Broad Street\, Philapelphia\, PA\, 19102
ORGANIZER;CN="Wabash%20Center":MAILTO:wabashcenter@wabash.edu
END:VEVENT
END:VCALENDAR