BEGIN:VCALENDAR
VERSION:2.0
PRODID:-//Wabash Center - ECPv5.7.0//NONSGML v1.0//EN
CALSCALE:GREGORIAN
METHOD:PUBLISH
X-WR-CALNAME:Wabash Center
X-ORIGINAL-URL:https://wabash-old.triplenerdscore.xyz
X-WR-CALDESC:Events for Wabash Center
BEGIN:VTIMEZONE
TZID:UTC
BEGIN:STANDARD
TZOFFSETFROM:+0000
TZOFFSETTO:+0000
TZNAME:UTC
DTSTART:20170101T000000
END:STANDARD
END:VTIMEZONE
BEGIN:VEVENT
DTSTART;VALUE=DATE:20170427
DTEND;VALUE=DATE:20170430
DTSTAMP:20260422T171112
CREATED:20170228T225447Z
LAST-MODIFIED:20170331T173951Z
UID:52077-1493251200-1493510399@wabash-old.triplenerdscore.xyz
SUMMARY:Spring 2017 Meeting of the Digital Media Committee
DESCRIPTION:This information is for participants already accepted into the workshop.\n \n \n \nThe Wabash Center’s “Digital Media Committee” is comprised of the Editorial Board of our international peer-reviewed journal  Teaching Theology and Religion and a select group of colleagues we gather for discussions of Wabash Center website and social media initiatives.\n \n  View Info About The JournalTeaching Theology and Religion\n \n \n  Info on Travel and AccommodationsFlights\, Lodging\, Directions\, etc...\n \n \n  View Our Policy on Full ParticipationAttendance\, Guests\, Dependent Children\, etc...\n \n \n \nGround Transportation\nAbout a week prior to your travel you will receive an email from Trish Overpeck (overpecp@wabash.edu) with airport shuttle information. This email includes the cell phone number of your driver\, where to meet\, and fellow participants with arrival times. Please print off these instructions and carry them with you.
URL:https://wabash-old.triplenerdscore.xyz/event/spring-2017-meeting-of-the-digital-media-committee/
LOCATION:Trippet Hall (Wabash Center lodging)\, Trippet Hall 410 West Wabash Avenue\, Crawfordsville\, IN\, 47933\, United States
ORGANIZER;CN="Wabash%20Center":MAILTO:wabashcenter@wabash.edu
END:VEVENT
END:VCALENDAR