BEGIN:VCALENDAR
VERSION:2.0
PRODID:-//Wabash Center - ECPv5.7.0//NONSGML v1.0//EN
CALSCALE:GREGORIAN
METHOD:PUBLISH
X-WR-CALNAME:Wabash Center
X-ORIGINAL-URL:https://wabash-old.triplenerdscore.xyz
X-WR-CALDESC:Events for Wabash Center
BEGIN:VTIMEZONE
TZID:UTC
BEGIN:STANDARD
TZOFFSETFROM:+0000
TZOFFSETTO:+0000
TZNAME:UTC
DTSTART:20180101T000000
END:STANDARD
END:VTIMEZONE
BEGIN:VEVENT
DTSTART;VALUE=DATE:20180713
DTEND;VALUE=DATE:20180714
DTSTAMP:20260422T105713
CREATED:20180713T101248Z
LAST-MODIFIED:20201102T200754Z
UID:214487-1531440000-1531526399@wabash-old.triplenerdscore.xyz
SUMMARY:Publication of "Teaching Theology and Religion" Issue 21:3
DESCRIPTION:The Wabash Center’s international peer reviewed journal becomes available online on July 13\, 2018. \nThe journal is published quarterly by Wiley-Blackwell. Online and print subscriptions available. \nThe January issue is available for free download throughout the calendar year. \nRead more about the journal (including links to free content). Publication of “Teaching Theology and Religion” Issue 21:3
URL:https://wabash-old.triplenerdscore.xyz/event/publication-of-teaching-theology-and-religion-issue-213/
ORGANIZER;CN="Wabash%20Center":MAILTO:wabashcenter@wabash.edu
END:VEVENT
END:VCALENDAR