BEGIN:VCALENDAR
VERSION:2.0
PRODID:-//Wabash Center - ECPv5.7.0//NONSGML v1.0//EN
CALSCALE:GREGORIAN
METHOD:PUBLISH
X-WR-CALNAME:Wabash Center
X-ORIGINAL-URL:https://wabash-old.triplenerdscore.xyz
X-WR-CALDESC:Events for Wabash Center
BEGIN:VTIMEZONE
TZID:UTC
BEGIN:STANDARD
TZOFFSETFROM:+0000
TZOFFSETTO:+0000
TZNAME:UTC
DTSTART:20170101T000000
END:STANDARD
END:VTIMEZONE
BEGIN:VEVENT
DTSTART;VALUE=DATE:20170404
DTEND;VALUE=DATE:20170405
DTSTAMP:20260422T171112
CREATED:20170228T224026Z
LAST-MODIFIED:20201102T200753Z
UID:52070-1491264000-1491350399@wabash-old.triplenerdscore.xyz
SUMMARY:Publication of "Teaching Theology and Religion" Issue 20:2
DESCRIPTION:The Wabash Center’s international peer reviewed journal becomes available online on April 4\, 2017. \nThe journal is published quarterly by Wiley-Blackwell. Online and print subscriptions available. \nThe January issue is available for free download throughout the calendar year. \nRead more about the journal (including links to free content). Publication of “Teaching Theology and Religion” Issue 20:2
URL:https://wabash-old.triplenerdscore.xyz/event/publication-of-teaching-theology-and-religion-issue-202/
ORGANIZER;CN="Wabash%20Center":MAILTO:wabashcenter@wabash.edu
END:VEVENT
END:VCALENDAR