BEGIN:VCALENDAR
VERSION:2.0
PRODID:-//Wabash Center - ECPv5.7.0//NONSGML v1.0//EN
CALSCALE:GREGORIAN
METHOD:PUBLISH
X-WR-CALNAME:Wabash Center
X-ORIGINAL-URL:https://wabash-old.triplenerdscore.xyz
X-WR-CALDESC:Events for Wabash Center
BEGIN:VTIMEZONE
TZID:UTC
BEGIN:STANDARD
TZOFFSETFROM:+0000
TZOFFSETTO:+0000
TZNAME:UTC
DTSTART:20180101T000000
END:STANDARD
END:VTIMEZONE
BEGIN:VEVENT
DTSTART;TZID=UTC:20180117T080000
DTEND;TZID=UTC:20180117T170000
DTSTAMP:20260422T134034
CREATED:20180117T191204Z
LAST-MODIFIED:20180117T191204Z
UID:212769-1516176000-1516208400@wabash-old.triplenerdscore.xyz
SUMMARY:Leadership-Team Meetings for Summer Workshop Planning
DESCRIPTION:Ground Transportation\n\nAbout a week prior to your travel you will receive an email from Beth Reffett (reffettb@wabash.edu) with airport shuttle information. This email includes the cell phone number of your driver\, where to meet\, and fellow participants with arrival times. Please print off these instructions and carry them with you.\nContact Information on Day of Travel \n\nWabash Center: 800-655-7117\nAfter Hours: as directed in the travel email received the week prior to travel\nVenue (Trippet Hall): 765-361-6490 (please ask that a message be delivered to a Wabash Center staff member)\n \nThe Travel Authority (to make changes to flights\, if reservations were made using our travel agent)\n800-837-6568\nTami Brubaker tami.brubaker@altour.com\nThommi Weliever thommi.weliever@altour.com
URL:https://wabash-old.triplenerdscore.xyz/event/leadership-team-meetings-summer-workshop-planning/
END:VEVENT
END:VCALENDAR