BEGIN:VCALENDAR
VERSION:2.0
PRODID:-//Wabash Center - ECPv5.7.0//NONSGML v1.0//EN
CALSCALE:GREGORIAN
METHOD:PUBLISH
X-WR-CALNAME:Wabash Center
X-ORIGINAL-URL:https://wabash-old.triplenerdscore.xyz
X-WR-CALDESC:Events for Wabash Center
BEGIN:VTIMEZONE
TZID:UTC
BEGIN:STANDARD
TZOFFSETFROM:+0000
TZOFFSETTO:+0000
TZNAME:UTC
DTSTART:20170101T000000
END:STANDARD
END:VTIMEZONE
BEGIN:VEVENT
DTSTART;VALUE=DATE:20170323
DTEND;VALUE=DATE:20170325
DTSTAMP:20260422T172751
CREATED:20160129T143826Z
LAST-MODIFIED:20190522T182022Z
UID:615-1490227200-1490399999@wabash-old.triplenerdscore.xyz
SUMMARY:Advisory Committee Meeting
DESCRIPTION:This information is for designated members of the Wabash Center Advisory Committee\n\n\n\n\n Wabash Center Advisory CommitteePhotograph of Members\n\n\n “Info on Travel and AccomodationsFlights\, Lodging\, Directions\, etc...\n\n\n Wabash Center Grant ProgramMission\, Areas of Focus\, etc.\n\n\n \nThe Wabash Center Advisory Committee meets twice a year (in March and October) to consider grant proposals and other matters of business. Serving three year terms.\n \nGround Transportation\nAbout a week prior to your travel you will receive an email from Trish Overpeck (overpecp@wabash.edu) with airport shuttle information. This email includes the cell phone number of your driver\, where to meet\, and fellow participants with arrival times. Please print off these instructions and carry them with you.
URL:https://wabash-old.triplenerdscore.xyz/event/january-meeting-of-pre-tenure-workshop-for-faculty-at-colleges-and-universities/
LOCATION:Trippet Hall (Wabash Center lodging)\, Trippet Hall 410 West Wabash Avenue\, Crawfordsville\, IN\, 47933\, United States
ORGANIZER;CN="Wabash%20Center":MAILTO:wabashcenter@wabash.edu
END:VEVENT
END:VCALENDAR