BEGIN:VCALENDAR
VERSION:2.0
PRODID:-//Wabash Center - ECPv5.7.0//NONSGML v1.0//EN
CALSCALE:GREGORIAN
METHOD:PUBLISH
X-WR-CALNAME:Wabash Center
X-ORIGINAL-URL:https://wabash-old.triplenerdscore.xyz
X-WR-CALDESC:Events for Wabash Center
BEGIN:VTIMEZONE
TZID:UTC
BEGIN:STANDARD
TZOFFSETFROM:+0000
TZOFFSETTO:+0000
TZNAME:UTC
DTSTART:20180101T000000
END:STANDARD
END:VTIMEZONE
BEGIN:VEVENT
DTSTART;VALUE=DATE:20181021
DTEND;VALUE=DATE:20181024
DTSTAMP:20260422T090647
CREATED:20180806T143216Z
LAST-MODIFIED:20180806T143216Z
UID:218424-1540080000-1540339199@wabash-old.triplenerdscore.xyz
SUMMARY:Graduate Program Directors Conference
DESCRIPTION:This information is for participants already invited to this program.     Info on Food\, Travel and AccommodationsFlights\, Lodging\, Directions\, etc...       Ground Transportation\nAbout a week prior to your travel you will receive an email from Beth Reffett (reffettb@wabash.edu) with airport shuttle information. This email includes the cell phone number of your driver\, where to meet\, and fellow participants with arrival times. Please print off these instructions and carry them with you.    Contact Information on Day of Travel\nWabash Center: 800-655-7117\nAfter Hours: as directed in the travel email\nVenue The Alexander 317-624-8200 \n\nThe Travel Authority (to change flights)\n800-837-6568 \nTami Brubaker tami.brubaker@altour.com\nThommi Weliever thommi.weliever@altour.com
URL:https://wabash-old.triplenerdscore.xyz/event/graduate-program-directors-conference/
LOCATION:Alexander Hotel\, 333 South Delaware Street\, Indianpolis\, IN\, 46204\, United States
ORGANIZER;CN="Wabash%20Center":MAILTO:wabashcenter@wabash.edu
END:VEVENT
END:VCALENDAR