BEGIN:VCALENDAR
VERSION:2.0
PRODID:-//Wabash Center - ECPv5.7.0//NONSGML v1.0//EN
CALSCALE:GREGORIAN
METHOD:PUBLISH
X-WR-CALNAME:Wabash Center
X-ORIGINAL-URL:https://wabash-old.triplenerdscore.xyz
X-WR-CALDESC:Events for Wabash Center
BEGIN:VTIMEZONE
TZID:UTC
BEGIN:STANDARD
TZOFFSETFROM:+0000
TZOFFSETTO:+0000
TZNAME:UTC
DTSTART:20180101T000000
END:STANDARD
END:VTIMEZONE
BEGIN:VEVENT
DTSTART;TZID=UTC:20181114T083000
DTEND;TZID=UTC:20181114T114000
DTSTAMP:20260422T091625
CREATED:20180611T201701Z
LAST-MODIFIED:20180906T144929Z
UID:214144-1542184200-1542195600@wabash-old.triplenerdscore.xyz
SUMMARY:Evangelical Theological Society Annual Meeting - Session on Teaching
DESCRIPTION:
URL:https://wabash-old.triplenerdscore.xyz/event/evangelical-theological-society-annual-meeting-session-on-teaching/
LOCATION:Sheraton Downtown Denver Hotel\, 1550 Court Place\, Denver\, CO\, 80202\, United States
ORGANIZER;CN="Wabash%20Center":MAILTO:wabashcenter@wabash.edu
END:VEVENT
END:VCALENDAR