BEGIN:VCALENDAR
VERSION:2.0
PRODID:-//Wabash Center - ECPv5.7.0//NONSGML v1.0//EN
CALSCALE:GREGORIAN
METHOD:PUBLISH
X-WR-CALNAME:Wabash Center
X-ORIGINAL-URL:https://wabash-old.triplenerdscore.xyz
X-WR-CALDESC:Events for Wabash Center
BEGIN:VTIMEZONE
TZID:UTC
BEGIN:STANDARD
TZOFFSETFROM:+0000
TZOFFSETTO:+0000
TZNAME:UTC
DTSTART:20190101T000000
END:STANDARD
END:VTIMEZONE
BEGIN:VEVENT
DTSTART;VALUE=DATE:20190208
DTEND;VALUE=DATE:20190211
DTSTAMP:20260422T072737
CREATED:20180807T152029Z
LAST-MODIFIED:20180807T152029Z
UID:218446-1549584000-1549843199@wabash-old.triplenerdscore.xyz
SUMMARY:Application Selection Weekend
DESCRIPTION:This information is for the leadership teams of the 2019-20 workshops and colloquies. \n\n\n\n\n\n Info on Food\, Travel and AccommodationsFlights\, Lodging\, Directions\, etc...\n\n\n View Our Policy on Full ParticipationAttendance\, Guests\, Dependent Children\, etc...\n\n\n \nGround Transportation\nAbout a week prior to your travel you will receive an email from Beth Reffett (reffettb@wabash.edu) with airport shuttle information (pdf). This email includes the cell phone number of your driver\, where to meet\, and fellow participants with arrival times. Please print off these instructions and carry them with you.
URL:https://wabash-old.triplenerdscore.xyz/event/application-selection-weekend-4/
LOCATION:Wabash Center\, 301 West Wabash Ave.\, Crawfordsville\, IN\, 47933
ORGANIZER;CN="Wabash%20Center":MAILTO:wabashcenter@wabash.edu
END:VEVENT
END:VCALENDAR