BEGIN:VCALENDAR
VERSION:2.0
PRODID:-//Wabash Center - ECPv5.7.0//NONSGML v1.0//EN
CALSCALE:GREGORIAN
METHOD:PUBLISH
X-WR-CALNAME:Wabash Center
X-ORIGINAL-URL:https://wabash-old.triplenerdscore.xyz
X-WR-CALDESC:Events for Wabash Center
BEGIN:VTIMEZONE
TZID:UTC
BEGIN:STANDARD
TZOFFSETFROM:+0000
TZOFFSETTO:+0000
TZNAME:UTC
DTSTART:20170101T000000
END:STANDARD
END:VTIMEZONE
BEGIN:VEVENT
DTSTART;VALUE=DATE:20170224
DTEND;VALUE=DATE:20170227
DTSTAMP:20260422T170021
CREATED:20161201T161651Z
LAST-MODIFIED:20161201T161719Z
UID:47334-1487894400-1488153599@wabash-old.triplenerdscore.xyz
SUMMARY:Application Selection Weekend
DESCRIPTION:This information is for the leadership teams of the 2017-18 workshops and colloquies. \n \n \n \n \n  Colloquy on Writing the Scholarship of TeachingParticipants\, Other Dates\, etc...\n \n \n  Info on Food\, Travel and AccommodationsFlights\, Lodging\, Directions\, etc...\n \n \n View Our Policy on Full ParticipationAttendance\, Guests\, Dependent Children\, etc...\n\n \n \n \nGround Transportation\nAbout a week prior to your travel you will receive an email from Trish Overpeck (overpecp@wabash.edu) with airport shuttle information (pdf). This email includes the cell phone number of your driver\, where to meet\, and fellow participants with arrival times. Please print off these instructions and carry them with you.
URL:https://wabash-old.triplenerdscore.xyz/event/application-selection-weekend-3/
LOCATION:Wabash Center\, 301 West Wabash Ave.\, Crawfordsville\, IN\, 47933
ORGANIZER;CN="Wabash%20Center":MAILTO:wabashcenter@wabash.edu
END:VEVENT
END:VCALENDAR