BEGIN:VCALENDAR
VERSION:2.0
PRODID:-//Wabash Center - ECPv5.7.0//NONSGML v1.0//EN
CALSCALE:GREGORIAN
METHOD:PUBLISH
X-WR-CALNAME:Wabash Center
X-ORIGINAL-URL:https://wabash-old.triplenerdscore.xyz
X-WR-CALDESC:Events for Wabash Center
BEGIN:VTIMEZONE
TZID:UTC
BEGIN:STANDARD
TZOFFSETFROM:+0000
TZOFFSETTO:+0000
TZNAME:UTC
DTSTART:20180101T000000
END:STANDARD
END:VTIMEZONE
BEGIN:VEVENT
DTSTART;VALUE=DATE:20180223
DTEND;VALUE=DATE:20180226
DTSTAMP:20260424T093934
CREATED:20170720T123142Z
LAST-MODIFIED:20180126T193428Z
UID:211233-1519344000-1519603199@wabash-old.triplenerdscore.xyz
SUMMARY:Workshop Applicant Selection Meeting
DESCRIPTION:This information is for participants already invited to this program.\n\n\n\n\n\n\n Info on Food\, Travel and AccommodationsFlights\, Lodging\, Directions\, etc...\n\n\n\n\n\n\n\n\n\nGround Transportation\nAbout a week prior to your travel you will receive an email from Beth Reffett (reffettb@wabash.edu) with airport shuttle information. This email includes the cell phone number of your driver\, where to meet\, and fellow participants with arrival times. Please print off these instructions and carry them with you. \n\n\n\n\nContact Information on Day of Travel\nWabash Center: 800-655-7117\n After Hours: as directed in the travel email\n Venue (Trippet Hall): 765-361-6490  \n\n\n\nThe Travel Authority (to change flights)\n 800-837-6568 \n Tami Brubaker tami.brubaker@altour.com\n Thommi Weliever thommi.weliever@altour.com
URL:https://wabash-old.triplenerdscore.xyz/event/applicant-selection/
LOCATION:Trippet Hall (Wabash Center lodging)\, Trippet Hall 410 West Wabash Avenue\, Crawfordsville\, IN\, 47933\, United States
ORGANIZER;CN="Wabash%20Center":MAILTO:wabashcenter@wabash.edu
END:VEVENT
END:VCALENDAR