BEGIN:VCALENDAR
VERSION:2.0
PRODID:-//Wabash Center - ECPv5.7.0//NONSGML v1.0//EN
CALSCALE:GREGORIAN
METHOD:PUBLISH
X-WR-CALNAME:Wabash Center
X-ORIGINAL-URL:https://wabash-old.triplenerdscore.xyz
X-WR-CALDESC:Events for Wabash Center
BEGIN:VTIMEZONE
TZID:UTC
BEGIN:STANDARD
TZOFFSETFROM:+0000
TZOFFSETTO:+0000
TZNAME:UTC
DTSTART:20180101T000000
END:STANDARD
END:VTIMEZONE
BEGIN:VEVENT
DTSTART;VALUE=DATE:20180318
DTEND;VALUE=DATE:20180321
DTSTAMP:20260422T121406
CREATED:20170727T111747Z
LAST-MODIFIED:20180126T193507Z
UID:211419-1521331200-1521590399@wabash-old.triplenerdscore.xyz
SUMMARY:Advisory Committee Meeting
DESCRIPTION:This information is for participants already invited to this program.\n\n\n\n\n Info on Food and Accommodations\n \n\n\n\n\n\n\n\n\n\n\nGround Transportation\nAbout a week prior to your travel you will receive an email from Beth Reffett (reffettb@wabash.edu) with airport shuttle information. This email includes the cell phone number of your driver\, where to meet\, and fellow participants with arrival times. Please print off these instructions and carry them with you. \n\n\n\n\nContact Information on Day of Travel\nWabash Center: 800-655-7117\n After Hours: as directed in the travel email \n Venue (Alexander Hotel): 855-200-3002  \n\n\n\nThe Travel Authority (to change flights)\n 800-837-6568 \n Tami Brubaker tami.brubaker@altour.com\n Thommi Weliever thommi.weliever@altour.com
URL:https://wabash-old.triplenerdscore.xyz/event/advisory-committee/
LOCATION:Alexander Hotel\, 333 South Delaware Street\, Indianpolis\, IN\, 46204\, United States
ORGANIZER;CN="Wabash%20Center":MAILTO:wabashcenter@wabash.edu
END:VEVENT
END:VCALENDAR