BEGIN:VCALENDAR
VERSION:2.0
PRODID:-//Wabash Center - ECPv5.7.0//NONSGML v1.0//EN
CALSCALE:GREGORIAN
METHOD:PUBLISH
X-WR-CALNAME:Wabash Center
X-ORIGINAL-URL:https://wabash-old.triplenerdscore.xyz
X-WR-CALDESC:Events for Wabash Center
BEGIN:VTIMEZONE
TZID:UTC
BEGIN:STANDARD
TZOFFSETFROM:+0000
TZOFFSETTO:+0000
TZNAME:UTC
DTSTART:20190101T000000
END:STANDARD
END:VTIMEZONE
BEGIN:VEVENT
DTSTART;VALUE=DATE:20190320
DTEND;VALUE=DATE:20190323
DTSTAMP:20260420T215833
CREATED:20180808T195231Z
LAST-MODIFIED:20180808T195231Z
UID:218514-1553040000-1553299199@wabash-old.triplenerdscore.xyz
SUMMARY:Advisory Committee Meeting
DESCRIPTION:This information is for participants already invited to this program.    Info on Food and Accommodations\n   \n    Ground Transportation\nAbout a week prior to your travel you will receive an email from Beth Reffett (reffettb@wabash.edu) with airport shuttle information. This email includes the cell phone number of your driver\, where to meet\, and fellow participants with arrival times. Please print off these instructions and carry them with you.    Contact Information on Day of Travel\nWabash Center: 800-655-7117\nAfter Hours: as directed in the travel email \nVenue Wabash Center \n\nThe Travel Authority (to change flights)\n800-837-6568 \nTami Brubaker tami.brubaker@altour.com\nThommi Weliever thommi.weliever@altour.com
URL:https://wabash-old.triplenerdscore.xyz/event/advisory-committee-meeting-2/
LOCATION:Wabash Center\, 301 West Wabash Ave.\, Crawfordsville\, IN\, 47933
END:VEVENT
END:VCALENDAR