BEGIN:VCALENDAR
VERSION:2.0
PRODID:-//Wabash Center - ECPv5.7.0//NONSGML v1.0//EN
CALSCALE:GREGORIAN
METHOD:PUBLISH
X-WR-CALNAME:Wabash Center
X-ORIGINAL-URL:https://wabash-old.triplenerdscore.xyz
X-WR-CALDESC:Events for Wabash Center
BEGIN:VTIMEZONE
TZID:UTC
BEGIN:STANDARD
TZOFFSETFROM:+0000
TZOFFSETTO:+0000
TZNAME:UTC
DTSTART:20180101T000000
END:STANDARD
END:VTIMEZONE
BEGIN:VEVENT
DTSTART;VALUE=DATE:20181026
DTEND;VALUE=DATE:20181027
DTSTAMP:20260422T091127
CREATED:20190822T141127Z
LAST-MODIFIED:20190822T141137Z
UID:233278-1540512000-1540512000@wabash-old.triplenerdscore.xyz
SUMMARY:2018 Workshop for Hispanic Theological Initiative Fellows
DESCRIPTION:Co-Sponsored with the Hispanic Theological Initiative\n\nA gathering of HTI Fellows to discuss issues about teaching and learning related to syllabi design\, professional teaching development\, and other issues related to the first years of teaching.
URL:https://wabash-old.triplenerdscore.xyz/event/2018-workshop-for-hispanic-theological-initiative-fellows/
END:VEVENT
END:VCALENDAR