BEGIN:VCALENDAR
VERSION:2.0
PRODID:-//Wabash Center - ECPv5.7.0//NONSGML v1.0//EN
CALSCALE:GREGORIAN
METHOD:PUBLISH
X-WR-CALNAME:Wabash Center
X-ORIGINAL-URL:https://wabash-old.triplenerdscore.xyz
X-WR-CALDESC:Events for Wabash Center
BEGIN:VTIMEZONE
TZID:UTC
BEGIN:STANDARD
TZOFFSETFROM:+0000
TZOFFSETTO:+0000
TZNAME:UTC
DTSTART:20180101T000000
END:STANDARD
END:VTIMEZONE
BEGIN:VEVENT
DTSTART;VALUE=DATE:20180412
DTEND;VALUE=DATE:20180415
DTSTAMP:20260422T121356
CREATED:20180220T164621Z
LAST-MODIFIED:20180221T210556Z
UID:213062-1523491200-1523750399@wabash-old.triplenerdscore.xyz
SUMMARY:2018 Preparing Future Faculty Working Group
DESCRIPTION:This information is for participants already accepted into the workshop.\n\n \n View Info About This SeminarGoals\, leadership\, etc...
URL:https://wabash-old.triplenerdscore.xyz/event/2018-preparing-future-faculty-working-group/
LOCATION:Alexander Hotel\, 333 South Delaware Street\, Indianpolis\, IN\, 46204\, United States
ORGANIZER;CN="Wabash%20Center":MAILTO:wabashcenter@wabash.edu
END:VEVENT
END:VCALENDAR