BEGIN:VCALENDAR
VERSION:2.0
PRODID:-//Wabash Center - ECPv5.7.0//NONSGML v1.0//EN
CALSCALE:GREGORIAN
METHOD:PUBLISH
X-WR-CALNAME:Wabash Center
X-ORIGINAL-URL:https://wabash-old.triplenerdscore.xyz
X-WR-CALDESC:Events for Wabash Center
BEGIN:VTIMEZONE
TZID:UTC
BEGIN:STANDARD
TZOFFSETFROM:+0000
TZOFFSETTO:+0000
TZNAME:UTC
DTSTART:20190101T000000
END:STANDARD
END:VTIMEZONE
BEGIN:VEVENT
DTSTART;VALUE=DATE:20190528
DTEND;VALUE=DATE:20190601
DTSTAMP:20260420T160806
CREATED:20170728T150612Z
LAST-MODIFIED:20170802T174544Z
UID:211448-1559001600-1559347199@wabash-old.triplenerdscore.xyz
SUMMARY:2018-19 Workshop for Theological School Faculty Teaching Online
DESCRIPTION:F2f session #3 \n\nF2f session #1 \nTravel Information for Participants Already Accepted into the Workshop\nGround Transportation: About a week prior to your travel you will receive an email from Beth Reffett (reffettb@wabash.edu) with airport shuttle information. This email includes the cell phone number of your driver\, where to meet\, and fellow participants with arrival times. Please print off these instructions and carry them with you. \n\n \n  View Info About This WorkshopParticipants\, Other Dates\, etc...\n \n \n  Info on Travel and AccommodationsFlights\, Lodging\, Directions\, etc...\n \n \n  View Our Policy on Full ParticipationAttendance\, Guests\, Dependent Children\, etc...
URL:https://wabash-old.triplenerdscore.xyz/event/2018-19-workshop-theological-school-faculty-teaching-online-4/
LOCATION:Trippet Hall (Wabash Center lodging)\, Trippet Hall 410 West Wabash Avenue\, Crawfordsville\, IN\, 47933\, United States
END:VEVENT
END:VCALENDAR