BEGIN:VCALENDAR
VERSION:2.0
PRODID:-//Wabash Center - ECPv5.7.0//NONSGML v1.0//EN
CALSCALE:GREGORIAN
METHOD:PUBLISH
X-WR-CALNAME:Wabash Center
X-ORIGINAL-URL:https://wabash-old.triplenerdscore.xyz
X-WR-CALDESC:Events for Wabash Center
BEGIN:VTIMEZONE
TZID:UTC
BEGIN:STANDARD
TZOFFSETFROM:+0000
TZOFFSETTO:+0000
TZNAME:UTC
DTSTART:20190101T000000
END:STANDARD
END:VTIMEZONE
BEGIN:VEVENT
DTSTART;VALUE=DATE:20190110
DTEND;VALUE=DATE:20190114
DTSTAMP:20260422T073934
CREATED:20170728T152719Z
LAST-MODIFIED:20170802T172748Z
UID:211460-1547078400-1547423999@wabash-old.triplenerdscore.xyz
SUMMARY:2018-19 Early Career Workshop for Religion Faculty at Colleges and Universities
DESCRIPTION:This information is for participants already accepted into the workshop.\n \n \n \n \n  View Info About This WorkshopParticipants\, Other Dates\, etc...\n \n \n  Info on Food\, Travel and AccommodationsFlights\, Lodging\, Directions\, etc...\n \n \n  View Our Policy on Full ParticipationAttendance\, Guests\, Dependent Children\, etc...\n \n \n \nGround Transportation\nAbout a week prior to your travel you will receive an email from Beth Reffett (reffettb@wabash.edu) with airport shuttle information (pdf). This email includes the cell phone number of your driver\, where to meet\, and fellow participants with arrival times. Please print off these instructions and carry them with you.
URL:https://wabash-old.triplenerdscore.xyz/event/2018-19-early-career-workshop-religion-faculty-colleges-universities-3/
LOCATION:Mustang Island Conference Center\, 6981 State Highway 361\, Corpus Christi\, TX 78373\, 78373
END:VEVENT
END:VCALENDAR