BEGIN:VCALENDAR
VERSION:2.0
PRODID:-//Wabash Center - ECPv5.7.0//NONSGML v1.0//EN
CALSCALE:GREGORIAN
METHOD:PUBLISH
X-WR-CALNAME:Wabash Center
X-ORIGINAL-URL:https://wabash-old.triplenerdscore.xyz
X-WR-CALDESC:Events for Wabash Center
BEGIN:VTIMEZONE
TZID:UTC
BEGIN:STANDARD
TZOFFSETFROM:+0000
TZOFFSETTO:+0000
TZNAME:UTC
DTSTART:20170101T000000
END:STANDARD
END:VTIMEZONE
BEGIN:VEVENT
DTSTART;VALUE=DATE:20170508
DTEND;VALUE=DATE:20170511
DTSTAMP:20260422T170148
CREATED:20170228T230417Z
LAST-MODIFIED:20170331T174035Z
UID:52080-1494201600-1494460799@wabash-old.triplenerdscore.xyz
SUMMARY:2017 Peer Mentoring Cluster Leaders
DESCRIPTION:This information is for participants already accepted into the workshop.\n \n \n \nGathering of the designated “leaders” of each of the Peer Mentoring Clusters that has been approved for funding for the 2017 annual cycle. \n \n  Info About Peer Mentoring ClustersHow to apply\, eligibility\, etc...\n \n \n  Info on Travel and AccommodationsFlights\, Lodging\, Directions\, etc...\n \n \n  View Our Policy on Full ParticipationAttendance\, Guests\, Dependent Children\, etc...\n \n \n \nGround Transportation\nAbout a week prior to your travel you will receive an email from Trish Overpeck (overpecp@wabash.edu) with airport shuttle information. This email includes the cell phone number of your driver\, where to meet\, and fellow participants with arrival times. Please print off these instructions and carry them with you.
URL:https://wabash-old.triplenerdscore.xyz/event/2017-peer-mentoring-cluster-leaders/
LOCATION:Trippet Hall (Wabash Center lodging)\, Trippet Hall 410 West Wabash Avenue\, Crawfordsville\, IN\, 47933\, United States
ORGANIZER;CN="Wabash%20Center":MAILTO:wabashcenter@wabash.edu
END:VEVENT
END:VCALENDAR