BEGIN:VCALENDAR
VERSION:2.0
PRODID:-//Wabash Center - ECPv5.7.0//NONSGML v1.0//EN
CALSCALE:GREGORIAN
METHOD:PUBLISH
X-WR-CALNAME:Wabash Center
X-ORIGINAL-URL:https://wabash-old.triplenerdscore.xyz
X-WR-CALDESC:Events for Wabash Center
BEGIN:VTIMEZONE
TZID:UTC
BEGIN:STANDARD
TZOFFSETFROM:+0000
TZOFFSETTO:+0000
TZNAME:UTC
DTSTART:20180101T000000
END:STANDARD
END:VTIMEZONE
BEGIN:VEVENT
DTSTART;TZID=UTC:20180221T080000
DTEND;TZID=UTC:20180221T170000
DTSTAMP:20260422T121355
CREATED:20180221T211605Z
LAST-MODIFIED:20180221T211605Z
UID:213086-1519200000-1519232400@wabash-old.triplenerdscore.xyz
SUMMARY:2017-18 Scholarship of Teaching & Learning
DESCRIPTION:This information is for participants already accepted into the workshop.\n \n \n \n \n  View Info About This WorkshopParticipants\, Other Dates\, etc...\n \n \n  Info on Food\, Travel and AccommodationsFlights\, Lodging\, Directions\, etc...\n \n \n  View Our Policy on Full ParticipationAttendance\, Guests\, Dependent Children\, etc...\n \n \n \nGround Transportation\nAbout a week prior to your travel you will receive an email from Beth Reffett (reffettb@wabash.edu) with airport shuttle information (pdf). This email includes the cell phone number of your driver\, where to meet\, and fellow participants with arrival times. Please print off these instructions and carry them with you.
URL:https://wabash-old.triplenerdscore.xyz/event/2017-18-scholarship-teaching-learning/
END:VEVENT
END:VCALENDAR