BEGIN:VCALENDAR
VERSION:2.0
PRODID:-//Wabash Center - ECPv5.7.0//NONSGML v1.0//EN
CALSCALE:GREGORIAN
METHOD:PUBLISH
X-WR-CALNAME:Wabash Center
X-ORIGINAL-URL:https://wabash-old.triplenerdscore.xyz
X-WR-CALDESC:Events for Wabash Center
BEGIN:VTIMEZONE
TZID:UTC
BEGIN:STANDARD
TZOFFSETFROM:+0000
TZOFFSETTO:+0000
TZNAME:UTC
DTSTART:20170101T000000
END:STANDARD
END:VTIMEZONE
BEGIN:VEVENT
DTSTART;VALUE=DATE:20170523
DTEND;VALUE=DATE:20170527
DTSTAMP:20260422T170143
CREATED:20170228T223621Z
LAST-MODIFIED:20170518T140050Z
UID:52067-1495497600-1495843199@wabash-old.triplenerdscore.xyz
SUMMARY:2016-17 Workshop for Theological School Faculty Teaching Online
DESCRIPTION:This information is for participants already accepted into the workshop.\n \n \n \n \n  View Info About This WorkshopParticipants\, Other Dates\, etc...\n \n \n  Info on Travel and AccommodationsFlights\, Lodging\, Directions\, etc...\n \n \n  View Our Policy on Full ParticipationAttendance\, Guests\, Dependent Children\, etc...\n \n \n \nGround Transportation\nAbout a week prior to your travel you will receive an email from Beth Reffett (reffettb@wabash.edu) with airport shuttle information. This email includes the cell phone number of your driver\, where to meet\, and fellow participants with arrival times. Please print off these instructions and carry them with you.
URL:https://wabash-old.triplenerdscore.xyz/event/2016-17-workshop-for-theological-school-faculty-teaching-online/
LOCATION:Trippet Hall (Wabash Center lodging)\, Trippet Hall 410 West Wabash Avenue\, Crawfordsville\, IN\, 47933\, United States
ORGANIZER;CN="Wabash%20Center":MAILTO:wabashcenter@wabash.edu
END:VEVENT
END:VCALENDAR